BEGIN:VCALENDAR
VERSION:2.0
PRODID:-//Subamacon - ECPv6.10.2//NONSGML v1.0//EN
CALSCALE:GREGORIAN
METHOD:PUBLISH
X-WR-CALNAME:Subamacon
X-ORIGINAL-URL:https://subamacon.com
X-WR-CALDESC:Évènements pour Subamacon
REFRESH-INTERVAL;VALUE=DURATION:PT1H
X-Robots-Tag:noindex
X-PUBLISHED-TTL:PT1H
BEGIN:VTIMEZONE
TZID:Europe/Paris
BEGIN:DAYLIGHT
TZOFFSETFROM:+0100
TZOFFSETTO:+0200
TZNAME:CEST
DTSTART:20260329T010000
END:DAYLIGHT
BEGIN:STANDARD
TZOFFSETFROM:+0200
TZOFFSETTO:+0100
TZNAME:CET
DTSTART:20261025T010000
END:STANDARD
END:VTIMEZONE
BEGIN:VEVENT
DTSTART;TZID=Europe/Paris:20260423T193000
DTEND;TZID=Europe/Paris:20260423T220000
DTSTAMP:20260421T230103
CREATED:20260309T144059Z
LAST-MODIFIED:20260309T144059Z
UID:247788-1776972600-1776981600@subamacon.com
SUMMARY:réunion CODIR
DESCRIPTION:
URL:https://subamacon.com/index.php/event/reunion-codir/
END:VEVENT
BEGIN:VEVENT
DTSTART;VALUE=DATE:20260425
DTEND;VALUE=DATE:20260427
DTSTAMP:20260421T230103
CREATED:20250619T064649Z
LAST-MODIFIED:20250619T064649Z
UID:247005-1777075200-1777247999@subamacon.com
SUMMARY:Sortie 1ères bulles LA CIOTAT
DESCRIPTION:
URL:https://subamacon.com/index.php/event/sortie-1eres-bulles-la-ciotat-2/
LOCATION:La Ciotat
CATEGORIES:Sortie technique niveau 1
END:VEVENT
BEGIN:VEVENT
DTSTART;VALUE=DATE:20260425
DTEND;VALUE=DATE:20260426
DTSTAMP:20260421T230103
CREATED:20260324T161900Z
LAST-MODIFIED:20260324T161900Z
UID:247832-1777075200-1777075200@subamacon.com
SUMMARY:PSC formation Premiers Secours Citoyen // 1ère partie RIFAP
DESCRIPTION:Formation aux gestes de premiers secours  ( en préambule de la formation RIFAP ) \nPremiers Secours Citoyen     PSC \norganisée par les formateurs  du Comité Départemental  CODEP 71 . \nquand :       samedis :  28 février      25 avril       06 juin 2026 \ndurée :       journée complète \noù :            en fonction du nombre de participants de chaque club du département \npour  qui :  ouverte à tout licencié FFESSM   (priorité aux plongeurs ayant nécessité du RIFAP pour cette saison 2026 ) …. Public extérieur accepté \n nombre de participants :   12 maximum  encadrés par  2 formateurs \ncoût :      50 €   licencié FFESSM  ( montant  déclaré et  validé en Préfecture 71 )        60 €    public extérieur \norganisation :            chaque participant sera informé du lieu et déroulé de la formation quelques jours avant cette formation \ncontact :     secourisme@subamacon.com                    Serge JANIN   06 810 710 57 \n framadate partage public : https://beta.framadate.org/polls/secourismePSC
URL:https://subamacon.com/index.php/event/psc-formation-premiers-secours-citoyen-1ere-partie-rifap-2/
LOCATION:salle de cours du Club
CATEGORIES:CSM secourisme
END:VEVENT
BEGIN:VEVENT
DTSTART;TZID=Europe/Paris:20260428T193000
DTEND;TZID=Europe/Paris:20260428T193000
DTSTAMP:20260421T230103
CREATED:20250905T212957Z
LAST-MODIFIED:20250905T212957Z
UID:247146-1777404600-1777404600@subamacon.com
SUMMARY:les mardis de la bio
DESCRIPTION:
URL:https://subamacon.com/index.php/event/les-mardis-de-la-bio-6/
END:VEVENT
BEGIN:VEVENT
DTSTART;TZID=Europe/Paris:20260430T193000
DTEND;TZID=Europe/Paris:20260430T220000
DTSTAMP:20260421T230103
CREATED:20260205T142746Z
LAST-MODIFIED:20260205T142746Z
UID:247728-1777577400-1777586400@subamacon.com
SUMMARY:Cours IC
DESCRIPTION:
URL:https://subamacon.com/index.php/event/cours-ic-5/
LOCATION:salle de cours du Club
CATEGORIES:Initiateurs
END:VEVENT
END:VCALENDAR