BEGIN:VCALENDAR
VERSION:2.0
PRODID:-//Subamacon - ECPv6.10.2//NONSGML v1.0//EN
CALSCALE:GREGORIAN
METHOD:PUBLISH
X-ORIGINAL-URL:https://subamacon.com
X-WR-CALDESC:Évènements pour Subamacon
REFRESH-INTERVAL;VALUE=DURATION:PT1H
X-Robots-Tag:noindex
X-PUBLISHED-TTL:PT1H
BEGIN:VTIMEZONE
TZID:Europe/Paris
BEGIN:DAYLIGHT
TZOFFSETFROM:+0100
TZOFFSETTO:+0200
TZNAME:CEST
DTSTART:20260329T010000
END:DAYLIGHT
BEGIN:STANDARD
TZOFFSETFROM:+0200
TZOFFSETTO:+0100
TZNAME:CET
DTSTART:20261025T010000
END:STANDARD
END:VTIMEZONE
BEGIN:VEVENT
DTSTART;VALUE=DATE:20260425
DTEND;VALUE=DATE:20260427
DTSTAMP:20260424T052101
CREATED:20250619T064649Z
LAST-MODIFIED:20250619T064649Z
UID:247005-1777075200-1777247999@subamacon.com
SUMMARY:Sortie 1ères bulles LA CIOTAT
DESCRIPTION:
URL:https://subamacon.com/index.php/event/sortie-1eres-bulles-la-ciotat-2/
LOCATION:La Ciotat
CATEGORIES:Sortie technique niveau 1
END:VEVENT
BEGIN:VEVENT
DTSTART;VALUE=DATE:20260425
DTEND;VALUE=DATE:20260426
DTSTAMP:20260424T052101
CREATED:20260324T161900Z
LAST-MODIFIED:20260324T161900Z
UID:247832-1777075200-1777075200@subamacon.com
SUMMARY:PSC formation Premiers Secours Citoyen // 1ère partie RIFAP
DESCRIPTION:Formation aux gestes de premiers secours  ( en préambule de la formation RIFAP ) \nPremiers Secours Citoyen     PSC \norganisée par les formateurs  du Comité Départemental  CODEP 71 . \nquand :       samedis :  28 février      25 avril       06 juin 2026 \ndurée :       journée complète \noù :            en fonction du nombre de participants de chaque club du département \npour  qui :  ouverte à tout licencié FFESSM   (priorité aux plongeurs ayant nécessité du RIFAP pour cette saison 2026 ) …. Public extérieur accepté \n nombre de participants :   12 maximum  encadrés par  2 formateurs \ncoût :      50 €   licencié FFESSM  ( montant  déclaré et  validé en Préfecture 71 )        60 €    public extérieur \norganisation :            chaque participant sera informé du lieu et déroulé de la formation quelques jours avant cette formation \ncontact :     secourisme@subamacon.com                    Serge JANIN   06 810 710 57 \n framadate partage public : https://beta.framadate.org/polls/secourismePSC
URL:https://subamacon.com/index.php/event/psc-formation-premiers-secours-citoyen-1ere-partie-rifap-2/
LOCATION:salle de cours du Club
CATEGORIES:CSM secourisme
END:VEVENT
BEGIN:VEVENT
DTSTART;TZID=Europe/Paris:20260428T193000
DTEND;TZID=Europe/Paris:20260428T193000
DTSTAMP:20260424T052101
CREATED:20250905T212957Z
LAST-MODIFIED:20250905T212957Z
UID:247146-1777404600-1777404600@subamacon.com
SUMMARY:les mardis de la bio
DESCRIPTION:
URL:https://subamacon.com/index.php/event/les-mardis-de-la-bio-6/
END:VEVENT
BEGIN:VEVENT
DTSTART;TZID=Europe/Paris:20260430T193000
DTEND;TZID=Europe/Paris:20260430T220000
DTSTAMP:20260424T052101
CREATED:20260205T142746Z
LAST-MODIFIED:20260205T142746Z
UID:247728-1777577400-1777586400@subamacon.com
SUMMARY:Cours IC
DESCRIPTION:
URL:https://subamacon.com/index.php/event/cours-ic-5/
LOCATION:salle de cours du Club
CATEGORIES:Initiateurs
END:VEVENT
BEGIN:VEVENT
DTSTART;TZID=Europe/Paris:20260501T080000
DTEND;TZID=Europe/Paris:20260503T170000
DTSTAMP:20260424T052101
CREATED:20251210T194647Z
LAST-MODIFIED:20251210T194647Z
UID:247520-1777622400-1777827600@subamacon.com
SUMMARY:sortie Marseille N2
DESCRIPTION:
URL:https://subamacon.com/index.php/event/sortie-marseille-n2/
LOCATION:Marseille Pointe Rouge\, port de la pointe rouge\, Marseille
CATEGORIES:Niveau 2
END:VEVENT
BEGIN:VEVENT
DTSTART;TZID=Europe/Paris:20260506T200000
DTEND;TZID=Europe/Paris:20260506T210000
DTSTAMP:20260424T052101
CREATED:20250918T133150Z
LAST-MODIFIED:20250918T133150Z
UID:247185-1778097600-1778101200@subamacon.com
SUMMARY:cours PN2 réglementation
DESCRIPTION:
URL:https://subamacon.com/index.php/event/cours-pn2-reglementation/
LOCATION:Local\, France
CATEGORIES:N2 théorie,Niveau 2
END:VEVENT
BEGIN:VEVENT
DTSTART;TZID=Europe/Paris:20260507T190000
DTEND;TZID=Europe/Paris:20260507T220000
DTSTAMP:20260424T052101
CREATED:20260331T092530Z
LAST-MODIFIED:20260331T092530Z
UID:247855-1778180400-1778191200@subamacon.com
SUMMARY:Péda. MF2
DESCRIPTION:
URL:https://subamacon.com/index.php/event/peda-mf2/
LOCATION:Salle de réunion CSM\, 433 rue alain colas\, Mâcon\, 71000\, France
CATEGORIES:MF2
ORGANIZER;CN="Thibaud MARCEL-MATHEY":MAILTO:thibaud.marcel@gmail.com
END:VEVENT
BEGIN:VEVENT
DTSTART;VALUE=DATE:20260508
DTEND;VALUE=DATE:20260511
DTSTAMP:20260424T052101
CREATED:20251109T190519Z
LAST-MODIFIED:20251109T190519Z
UID:247315-1778198400-1778457599@subamacon.com
SUMMARY:Sortie Apnée au Dramont
DESCRIPTION:avec réservation du sac de secours
URL:https://subamacon.com/index.php/event/sortie-apnee-au-dramont/
LOCATION:Dramont (Saint Raphael)
END:VEVENT
BEGIN:VEVENT
DTSTART;VALUE=DATE:20260508
DTEND;VALUE=DATE:20260511
DTSTAMP:20260424T052101
CREATED:20251109T190905Z
LAST-MODIFIED:20251109T190905Z
UID:247318-1778198400-1778457599@subamacon.com
SUMMARY:Resa sac secours
DESCRIPTION:réservation du sac de secours pour la sortie APNEE du Dramont
URL:https://subamacon.com/index.php/event/resa-sac-secours/
LOCATION:Dramont (Saint Raphael)
ORGANIZER;CN="FOLLEVILLE Jean - Luc":MAILTO:barbibouille71@hotmail.fr
END:VEVENT
BEGIN:VEVENT
DTSTART;TZID=Europe/Paris:20260508T070000
DTEND;TZID=Europe/Paris:20260510T190000
DTSTAMP:20260424T052101
CREATED:20250903T152741Z
LAST-MODIFIED:20250903T152741Z
UID:247121-1778223600-1778439600@subamacon.com
SUMMARY:SECURITE REGATE
DESCRIPTION:
URL:https://subamacon.com/index.php/event/securite-regate-2/
ORGANIZER;CN="Natacha COMTET - CSM":MAILTO:securite@subamacon.com
END:VEVENT
BEGIN:VEVENT
DTSTART;TZID=Europe/Paris:20260512T200000
DTEND;TZID=Europe/Paris:20260512T220000
DTSTAMP:20260424T052101
CREATED:20260205T142853Z
LAST-MODIFIED:20260306T105623Z
UID:247731-1778616000-1778623200@subamacon.com
SUMMARY:Cours IC
DESCRIPTION:
URL:https://subamacon.com/index.php/event/cours-ic-6/
LOCATION:salle de cours du Club
CATEGORIES:Initiateurs
END:VEVENT
BEGIN:VEVENT
DTSTART;VALUE=DATE:20260514
DTEND;VALUE=DATE:20260518
DTSTAMP:20260424T052101
CREATED:20260316T160038Z
LAST-MODIFIED:20260316T160038Z
UID:247803-1778716800-1779062399@subamacon.com
SUMMARY:Sortie Loisirs au gîte du Gapeau
DESCRIPTION:Sortie Club à Hyères
URL:https://subamacon.com/index.php/event/sortie-loisirs-au-gite-du-gapeau/
END:VEVENT
BEGIN:VEVENT
DTSTART;TZID=Europe/Paris:20260519T173000
DTEND;TZID=Europe/Paris:20260519T193000
DTSTAMP:20260424T052101
CREATED:20260423T174906Z
LAST-MODIFIED:20260423T174906Z
UID:247862-1779211800-1779219000@subamacon.com
SUMMARY:cours MF1
DESCRIPTION:
URL:https://subamacon.com/index.php/event/cours-mf1/
LOCATION:salle de cours du Club
CATEGORIES:MF1 théorie
END:VEVENT
BEGIN:VEVENT
DTSTART;TZID=Europe/Paris:20260521T173000
DTEND;TZID=Europe/Paris:20260521T193000
DTSTAMP:20260424T052101
CREATED:20260423T175016Z
LAST-MODIFIED:20260423T175016Z
UID:247864-1779384600-1779391800@subamacon.com
SUMMARY:Cours MF1
DESCRIPTION:
URL:https://subamacon.com/index.php/event/cours-mf1-2/
LOCATION:Salle de réunion CSM\, 433 rue alain colas\, Mâcon\, 71000\, France
CATEGORIES:MF1 théorie
END:VEVENT
BEGIN:VEVENT
DTSTART;VALUE=DATE:20260523
DTEND;VALUE=DATE:20260525
DTSTAMP:20260424T052101
CREATED:20250910T152710Z
LAST-MODIFIED:20250917T072813Z
UID:247155-1779494400-1779667199@subamacon.com
SUMMARY:SORTIE MARSEILLE N3
DESCRIPTION:
URL:https://subamacon.com/index.php/event/sortie-marseille-n3-2/
LOCATION:Atelier de la mer\, Atelier de la mer plongée\, Marseille\, 13008\, France
END:VEVENT
BEGIN:VEVENT
DTSTART;TZID=Europe/Paris:20260526T194500
DTEND;TZID=Europe/Paris:20260526T213000
DTSTAMP:20260424T052101
CREATED:20260327T114624Z
LAST-MODIFIED:20260327T114624Z
UID:247837-1779824700-1779831000@subamacon.com
SUMMARY:les mardis de la bio
DESCRIPTION:
URL:https://subamacon.com/index.php/event/les-mardis-de-la-bio/
END:VEVENT
BEGIN:VEVENT
DTSTART;TZID=Europe/Paris:20260527T200000
DTEND;TZID=Europe/Paris:20260527T210000
DTSTAMP:20260424T052101
CREATED:20250918T133255Z
LAST-MODIFIED:20250918T133255Z
UID:247187-1779912000-1779915600@subamacon.com
SUMMARY:cours PN2 évaluation
DESCRIPTION:
URL:https://subamacon.com/index.php/event/cours-pn2-evaluation/
LOCATION:Local\, France
CATEGORIES:N2 théorie,Niveau 2
END:VEVENT
BEGIN:VEVENT
DTSTART;TZID=Europe/Paris:20260528T200000
DTEND;TZID=Europe/Paris:20260528T223000
DTSTAMP:20260424T052101
CREATED:20260228T093122Z
LAST-MODIFIED:20260228T093122Z
UID:247776-1779998400-1780007400@subamacon.com
SUMMARY:cours IC
DESCRIPTION:
URL:https://subamacon.com/index.php/event/cours-ic-9/
LOCATION:salle de cours du Club
CATEGORIES:Initiateurs
END:VEVENT
BEGIN:VEVENT
DTSTART;TZID=Europe/Paris:20260530T070000
DTEND;TZID=Europe/Paris:20260531T190000
DTSTAMP:20260424T052101
CREATED:20250903T152835Z
LAST-MODIFIED:20250903T152835Z
UID:247123-1780124400-1780254000@subamacon.com
SUMMARY:SECURITE REGATE
DESCRIPTION:
URL:https://subamacon.com/index.php/event/securite-regate-3/
ORGANIZER;CN="Natacha COMTET - CSM":MAILTO:securite@subamacon.com
END:VEVENT
BEGIN:VEVENT
DTSTART;TZID=Europe/Paris:20260604T200000
DTEND;TZID=Europe/Paris:20260604T223000
DTSTAMP:20260424T052101
CREATED:20260228T093340Z
LAST-MODIFIED:20260228T093340Z
UID:247778-1780603200-1780612200@subamacon.com
SUMMARY:Cours IC
DESCRIPTION:
URL:https://subamacon.com/index.php/event/cours-ic-10/
LOCATION:salle de cours du Club
CATEGORIES:Initiateurs
END:VEVENT
BEGIN:VEVENT
DTSTART;VALUE=DATE:20260606
DTEND;VALUE=DATE:20260607
DTSTAMP:20260424T052101
CREATED:20260324T162401Z
LAST-MODIFIED:20260324T162401Z
UID:247834-1780704000-1780790399@subamacon.com
SUMMARY:PSC formation Premiers Secours Citoyen // 1ère partie RIFAP
DESCRIPTION:Formation aux gestes de premiers secours  ( en préambule de la formation RIFAP ) \nPremiers Secours Citoyen     PSC \norganisée par les formateurs  du Comité Départemental  CODEP 71 . \nquand :       samedis :  28 février      25 avril       06 juin 2026 \ndurée :       journée complète \noù :            en fonction du nombre de participants de chaque club du département \npour  qui :  ouverte à tout licencié FFESSM   (priorité aux plongeurs ayant nécessité du RIFAP pour cette saison 2026 ) …. Public extérieur accepté \n nombre de participants :   12 maximum  encadrés par  2 formateurs \ncoût :      50 €   licencié FFESSM  ( montant  déclaré et  validé en Préfecture 71 )        60 €    public extérieur \norganisation :            chaque participant sera informé du lieu et déroulé de la formation quelques jours avant cette formation \ncontact :     secourisme@subamacon.com                    Serge JANIN   06 810 710 57 \n framadate partage public : https://beta.framadate.org/polls/secourismePSC
URL:https://subamacon.com/index.php/event/psc-formation-premiers-secours-citoyen-1ere-partie-rifap-3/
LOCATION:salle de cours du Club
CATEGORIES:CSM secourisme
END:VEVENT
BEGIN:VEVENT
DTSTART;VALUE=DATE:20260614
DTEND;VALUE=DATE:20260615
DTSTAMP:20260424T052101
CREATED:20260205T144146Z
LAST-MODIFIED:20260205T144313Z
UID:247742-1781395200-1781481599@subamacon.com
SUMMARY:Examen IC - CODEP71
DESCRIPTION:Organisateur: CODEP71 \nlieu: Piscine de Montceau les Mines
URL:https://subamacon.com/index.php/event/examen-ic/
LOCATION:Piscine de Montceau les Mines
CATEGORIES:Initiateurs
END:VEVENT
BEGIN:VEVENT
DTSTART;TZID=Europe/Paris:20260620T080000
DTEND;TZID=Europe/Paris:20260621T170000
DTSTAMP:20260424T052101
CREATED:20251210T194816Z
LAST-MODIFIED:20251210T194816Z
UID:247522-1781942400-1782061200@subamacon.com
SUMMARY:Sortie Marseille N2
DESCRIPTION:
URL:https://subamacon.com/index.php/event/sortie-marseille-n2-2/
LOCATION:Marseille Pointe Rouge\, port de la pointe rouge\, Marseille
CATEGORIES:Niveau 2
END:VEVENT
BEGIN:VEVENT
DTSTART;VALUE=DATE:20260905
DTEND;VALUE=DATE:20260907
DTSTAMP:20260424T052101
CREATED:20260315T163338Z
LAST-MODIFIED:20260315T163338Z
UID:247797-1788566400-1788739199@subamacon.com
SUMMARY:1\, 2\, 3 Mâcon
DESCRIPTION:
URL:https://subamacon.com/index.php/event/1-2-3-macon/
END:VEVENT
BEGIN:VEVENT
DTSTART;VALUE=DATE:20260919
DTEND;VALUE=DATE:20260927
DTSTAMP:20260424T052101
CREATED:20260316T160317Z
LAST-MODIFIED:20260316T160317Z
UID:247805-1789776000-1790467199@subamacon.com
SUMMARY:Sortie loisirs en Corse
DESCRIPTION:Sortie club à Galeria
URL:https://subamacon.com/index.php/event/sortie-loisirs-en-corse/
END:VEVENT
BEGIN:VEVENT
DTSTART;TZID=Europe/Paris:20261120T193000
DTEND;TZID=Europe/Paris:20261120T220000
DTSTAMP:20260424T052101
CREATED:20260315T161357Z
LAST-MODIFIED:20260315T161357Z
UID:247791-1795203000-1795212000@subamacon.com
SUMMARY:Assemblée Générale du CSM
DESCRIPTION:
URL:https://subamacon.com/index.php/event/assemblee-generale-du-csm/
END:VEVENT
END:VCALENDAR