BEGIN:VCALENDAR
VERSION:2.0
PRODID:-//Subamacon - ECPv6.10.2//NONSGML v1.0//EN
CALSCALE:GREGORIAN
METHOD:PUBLISH
X-WR-CALNAME:Subamacon
X-ORIGINAL-URL:https://subamacon.com
X-WR-CALDESC:Évènements pour Subamacon
REFRESH-INTERVAL;VALUE=DURATION:PT1H
X-Robots-Tag:noindex
X-PUBLISHED-TTL:PT1H
BEGIN:VTIMEZONE
TZID:Europe/Paris
BEGIN:DAYLIGHT
TZOFFSETFROM:+0100
TZOFFSETTO:+0200
TZNAME:CEST
DTSTART:20260329T010000
END:DAYLIGHT
BEGIN:STANDARD
TZOFFSETFROM:+0200
TZOFFSETTO:+0100
TZNAME:CET
DTSTART:20261025T010000
END:STANDARD
END:VTIMEZONE
BEGIN:VEVENT
DTSTART;TZID=Europe/Paris:20260423T193000
DTEND;TZID=Europe/Paris:20260423T220000
DTSTAMP:20260424T063730
CREATED:20260309T144059Z
LAST-MODIFIED:20260309T144059Z
UID:247788-1776972600-1776981600@subamacon.com
SUMMARY:réunion CODIR
DESCRIPTION:
URL:https://subamacon.com/index.php/event/reunion-codir/
END:VEVENT
BEGIN:VEVENT
DTSTART;TZID=Europe/Paris:20260418T090000
DTEND;TZID=Europe/Paris:20260418T120000
DTSTAMP:20260424T063730
CREATED:20260316T160417Z
LAST-MODIFIED:20260316T160417Z
UID:247807-1776502800-1776513600@subamacon.com
SUMMARY:Nettoyage du lac de Montbellet
DESCRIPTION:
URL:https://subamacon.com/index.php/event/nettoyage-du-lac-de-montbellet/
END:VEVENT
BEGIN:VEVENT
DTSTART;VALUE=DATE:20260418
DTEND;VALUE=DATE:20260419
DTSTAMP:20260424T063730
CREATED:20260318T125639Z
LAST-MODIFIED:20260318T125925Z
UID:247813-1776470400-1776556799@subamacon.com
SUMMARY:RIFAP
DESCRIPTION:RIFAP \nRéaction Intervention Face à un Accident de Plongée \n!!!!!  pour tous   !!!! \nFormation organisée au local du Club Subaquatique Mâconnais : \n\n                  Samedi 18 avril 2026\n\nAccessible à l’ensemble des plongeurs du club \nFormation obligatoire pour accéder au niveau 3 de plongeur mais ouverte à tous nos adhérents \nFormation pouvant servir de formation continue pour ceux qui détiennent déjà cette qualification \nFormation  sur 1 journée complète : \nmatin : théorie + oxygénothérapie \naprès midi : pratique surface dans l’eau au port de plaisance \nLa détention du Certificat de compétences en premiers secours citoyen ( PSC  ) ou équivalent est demandée :  formation assurée au sein du Club  \nCoût :   20 €     délivrance de la carte par la FFESSM + frais divers \nInscription sur FRAMADATE :  https://beta.framadate.org/polls/secourismeRIFAP \nContact :        secourisme@subamacon.com                           Aurélia BRIEN : 06 83 89 42 91
URL:https://subamacon.com/index.php/event/formation-rifap/
LOCATION:salle de cours du Club
CATEGORIES:CSM secourisme
END:VEVENT
BEGIN:VEVENT
DTSTART;TZID=Europe/Paris:20260417T193000
DTEND;TZID=Europe/Paris:20260417T220000
DTSTAMP:20260424T063730
CREATED:20260315T163205Z
LAST-MODIFIED:20260315T163935Z
UID:247793-1776454200-1776463200@subamacon.com
SUMMARY:"Une plongée dans notre histoire"
DESCRIPTION:Une soirée nous replongeant dans l’histoire du club\, suivie d’un moment convivial. \n 
URL:https://subamacon.com/index.php/event/une-plongee-dans-notre-histoire/
LOCATION:salle Deschizeaux
END:VEVENT
BEGIN:VEVENT
DTSTART;TZID=Europe/Paris:20260416T193000
DTEND;TZID=Europe/Paris:20260416T220000
DTSTAMP:20260424T063730
CREATED:20260205T142645Z
LAST-MODIFIED:20260205T142645Z
UID:247725-1776367800-1776376800@subamacon.com
SUMMARY:Cours IC
DESCRIPTION:
URL:https://subamacon.com/index.php/event/cours-ic-4/
LOCATION:salle de cours du Club
CATEGORIES:Initiateurs
END:VEVENT
BEGIN:VEVENT
DTSTART;TZID=Europe/Paris:20260415T200000
DTEND;TZID=Europe/Paris:20260415T210000
DTSTAMP:20260424T063730
CREATED:20250918T133037Z
LAST-MODIFIED:20250918T133037Z
UID:247183-1776283200-1776286800@subamacon.com
SUMMARY:cours PN2 biologie
DESCRIPTION:
URL:https://subamacon.com/index.php/event/cours-pn2-biologie/
LOCATION:Local\, France
CATEGORIES:N2 théorie,Niveau 2
END:VEVENT
BEGIN:VEVENT
DTSTART;TZID=Europe/Paris:20260411T080000
DTEND;TZID=Europe/Paris:20260412T170000
DTSTAMP:20260424T063730
CREATED:20251210T194530Z
LAST-MODIFIED:20251210T194530Z
UID:247518-1775894400-1776013200@subamacon.com
SUMMARY:sortie Niolon N2
DESCRIPTION:
URL:https://subamacon.com/index.php/event/sortie-niolon-n2/
CATEGORIES:Niveau 2
END:VEVENT
BEGIN:VEVENT
DTSTART;VALUE=DATE:20260411
DTEND;VALUE=DATE:20260413
DTSTAMP:20260424T063730
CREATED:20250910T152618Z
LAST-MODIFIED:20250910T152618Z
UID:247153-1775865600-1776038399@subamacon.com
SUMMARY:SORTIE NIOLON N2+N3
DESCRIPTION:
URL:https://subamacon.com/index.php/event/sortie-niolon-n2n3/
LOCATION:UCPA NIOLON\, 18\, chemin de la Batterie\, LE ROVE\, 13740\, France
END:VEVENT
BEGIN:VEVENT
DTSTART;TZID=Europe/Paris:20260408T200000
DTEND;TZID=Europe/Paris:20260408T210000
DTSTAMP:20260424T063730
CREATED:20250918T132906Z
LAST-MODIFIED:20260116T124731Z
UID:247180-1775678400-1775682000@subamacon.com
SUMMARY:cours PN2 planification
DESCRIPTION:
URL:https://subamacon.com/index.php/event/cours-pn2-planification/
LOCATION:Local\, France
CATEGORIES:N2 théorie,Niveau 2
END:VEVENT
BEGIN:VEVENT
DTSTART;TZID=Europe/Paris:20260408T080000
DTEND;TZID=Europe/Paris:20260412T170000
DTSTAMP:20260424T063730
CREATED:20251221T191933Z
LAST-MODIFIED:20251221T191933Z
UID:247595-1775635200-1776013200@subamacon.com
SUMMARY:Sortie Technique Ados : La Ciotat
DESCRIPTION:
URL:https://subamacon.com/index.php/event/sortie-technique-ados-la-ciotat/
LOCATION:GPES La Ciotat\, GPES quai wilson\, La Ciotat\, 13600
END:VEVENT
BEGIN:VEVENT
DTSTART;TZID=Europe/Paris:20260407T193000
DTEND;TZID=Europe/Paris:20260407T203000
DTSTAMP:20260424T063730
CREATED:20260401T193052Z
LAST-MODIFIED:20260401T193052Z
UID:247859-1775590200-1775593800@subamacon.com
SUMMARY:Cours N3 Ordinateurs et GF
DESCRIPTION:
URL:https://subamacon.com/index.php/event/cours-n3-ordinateurs-et-gf/
LOCATION:Salle de réunion CSM\, 433 rue alain colas\, Mâcon\, 71000\, France
END:VEVENT
BEGIN:VEVENT
DTSTART;TZID=Europe/Paris:20260402T193000
DTEND;TZID=Europe/Paris:20260402T220000
DTSTAMP:20260424T063730
CREATED:20260205T142530Z
LAST-MODIFIED:20260205T142530Z
UID:247722-1775158200-1775167200@subamacon.com
SUMMARY:Cours IC
DESCRIPTION:
URL:https://subamacon.com/index.php/event/cours-ic-3/
LOCATION:salle de cours du Club
CATEGORIES:Initiateurs
END:VEVENT
BEGIN:VEVENT
DTSTART;TZID=Europe/Paris:20260328T180000
DTEND;TZID=Europe/Paris:20260328T190000
DTSTAMP:20260424T063730
CREATED:20260318T132520Z
LAST-MODIFIED:20260318T132539Z
UID:247826-1774720800-1774724400@subamacon.com
SUMMARY:Ados : Théorie PN1 - Les risques du milieu
DESCRIPTION:
URL:https://subamacon.com/index.php/event/ados-theorie-pn1-les-risques-du-milieu/
LOCATION:Salle de réunion CSM\, 433 rue alain colas\, Mâcon\, 71000\, France
CATEGORIES:Ado - Théorie
END:VEVENT
BEGIN:VEVENT
DTSTART;TZID=Europe/Paris:20260328T180000
DTEND;TZID=Europe/Paris:20260328T190000
DTSTAMP:20260424T063730
CREATED:20260318T131918Z
LAST-MODIFIED:20260318T131938Z
UID:247821-1774720800-1774724400@subamacon.com
SUMMARY:Ados : Quizz Théorie PPE40 / PN2
DESCRIPTION:
URL:https://subamacon.com/index.php/event/ados-quizz-theorie-ppe40-pn2/
LOCATION:salle de cours du Club
CATEGORIES:Ado - Théorie
END:VEVENT
BEGIN:VEVENT
DTSTART;TZID=Europe/Paris:20260328T170000
DTEND;TZID=Europe/Paris:20260328T180000
DTSTAMP:20260424T063730
CREATED:20260318T131702Z
LAST-MODIFIED:20260318T131722Z
UID:247819-1774717200-1774720800@subamacon.com
SUMMARY:Ados : Réunion d'information La Ciotat 2026
DESCRIPTION:
URL:https://subamacon.com/index.php/event/ados-reunion-dinformation-la-ciotat-2026/
LOCATION:Salle de réunion CSM\, 433 rue alain colas\, Mâcon\, 71000\, France
CATEGORIES:Ado
END:VEVENT
BEGIN:VEVENT
DTSTART;TZID=Europe/Paris:20260325T200000
DTEND;TZID=Europe/Paris:20260325T200000
DTSTAMP:20260424T063730
CREATED:20251209T151420Z
LAST-MODIFIED:20260116T125125Z
UID:247515-1774468800-1774468800@subamacon.com
SUMMARY:Formation Nitrox
DESCRIPTION:
URL:https://subamacon.com/index.php/event/formation-nitrox/
LOCATION:salle de cours du Club
CATEGORIES:N2 théorie
END:VEVENT
BEGIN:VEVENT
DTSTART;TZID=Europe/Paris:20260324T193000
DTEND;TZID=Europe/Paris:20260324T193000
DTSTAMP:20260424T063730
CREATED:20250905T212912Z
LAST-MODIFIED:20250905T212912Z
UID:247144-1774380600-1774380600@subamacon.com
SUMMARY:les mardis de la bio
DESCRIPTION:
URL:https://subamacon.com/index.php/event/les-mardis-de-la-bio-5/
END:VEVENT
BEGIN:VEVENT
DTSTART;VALUE=DATE:20260321
DTEND;VALUE=DATE:20260323
DTSTAMP:20260424T063730
CREATED:20250910T152950Z
LAST-MODIFIED:20250910T155743Z
UID:247159-1774051200-1774223999@subamacon.com
SUMMARY:SORTIE MARSEILLE N3
DESCRIPTION:
URL:https://subamacon.com/index.php/event/sortie-marseille-n3-4/
LOCATION:Atelier de la mer\, Atelier de la mer plongée\, Marseille\, 13008\, France
END:VEVENT
BEGIN:VEVENT
DTSTART;TZID=Europe/Paris:20260319T193000
DTEND;TZID=Europe/Paris:20260319T220000
DTSTAMP:20260424T063730
CREATED:20260205T141953Z
LAST-MODIFIED:20260205T142141Z
UID:247719-1773948600-1773957600@subamacon.com
SUMMARY:Cours IC
DESCRIPTION:
URL:https://subamacon.com/index.php/event/cours-ic-2/
LOCATION:Salle de réunion CSM\, 433 rue alain colas\, Mâcon\, 71000\, France
CATEGORIES:Initiateurs
END:VEVENT
BEGIN:VEVENT
DTSTART;VALUE=DATE:20260318
DTEND;VALUE=DATE:20260319
DTSTAMP:20260424T063730
CREATED:20260318T095346Z
LAST-MODIFIED:20260318T095346Z
UID:247810-1773792000-1773878399@subamacon.com
SUMMARY:RIFAP
DESCRIPTION:Journée formation RIFAP samedi 18 avril 2026 \nFormation secourisme RIFAP 18 Avril 2026 (Réaction Intervention Face aux Accidents de Plongée) \nLa formation se déroule sur 1 journée complète.\nPour pouvoir participer à cette journée de formation\, vous devrez présenter votre certification de PSC ou équivalant (AFPS\, BNS\, BNPS\, SST\, AFGSU à jour de recyclage) un justificatif vous sera demandé. \nEffectif par journée : 8 minimum.\nSi effectif minimum non atteint annulation de la journée de formation\nSi effectif trop important priorité aux plongeu/ses/rs en formation N3\, Initiateur\, ou autre niveau nécessitant un RIFAP olbigatoire. \nCoût de la formation : 20 €\, comprenant la délivrance de la carte RIFAP FFESSM\nFormations continues RIFAP : 10 €\n• INSCRIPTION : NOM Prénom n° de tel et adresse mail \nl’organisation de la journée sera communiquée à l’issue des inscriptions\, 1 semaine avant.\ncontact : secourisme@subamacon.com\nRIFAP : Aurélia BRIEN 06 83 89 42 91
URL:https://subamacon.com/index.php/event/rifap/
LOCATION:Club House CSM\, rue alain colas\, Mâcon\, 71000\, France
END:VEVENT
BEGIN:VEVENT
DTSTART;TZID=Europe/Paris:20260316T193000
DTEND;TZID=Europe/Paris:20260316T210000
DTSTAMP:20260424T063730
CREATED:20251030T221410Z
LAST-MODIFIED:20251030T221410Z
UID:247280-1773689400-1773694800@subamacon.com
SUMMARY:Cours correction travaux planif N3
DESCRIPTION:
URL:https://subamacon.com/index.php/event/cours-correction-travaux-planif-n3/
LOCATION:salle de cours du Club
END:VEVENT
BEGIN:VEVENT
DTSTART;TZID=Europe/Paris:20260314T180000
DTEND;TZID=Europe/Paris:20260314T193000
DTSTAMP:20260424T063730
CREATED:20251021T170020Z
LAST-MODIFIED:20251021T170020Z
UID:247239-1773511200-1773516600@subamacon.com
SUMMARY:Théorie Ados PN2/PPE40 : Règlementation
DESCRIPTION:
URL:https://subamacon.com/index.php/event/theorie-ados-pn2-ppe40-reglementation/
LOCATION:Salle de réunion CSM\, 433 rue alain colas\, Mâcon\, 71000\, France
CATEGORIES:Ado - Théorie
END:VEVENT
BEGIN:VEVENT
DTSTART;TZID=Europe/Paris:20260307T070000
DTEND;TZID=Europe/Paris:20260308T190000
DTSTAMP:20260424T063730
CREATED:20250903T152627Z
LAST-MODIFIED:20250903T152627Z
UID:247119-1772866800-1772996400@subamacon.com
SUMMARY:SECURITE REGATE
DESCRIPTION:
URL:https://subamacon.com/index.php/event/securite-regate/
LOCATION:Centre Paul Bert\, MACON\, 71000
ORGANIZER;CN="Natacha COMTET - CSM":MAILTO:securite@subamacon.com
END:VEVENT
BEGIN:VEVENT
DTSTART;TZID=Europe/Paris:20260305T193000
DTEND;TZID=Europe/Paris:20260305T220000
DTSTAMP:20260424T063730
CREATED:20260203T092930Z
LAST-MODIFIED:20260205T142315Z
UID:247711-1772739000-1772748000@subamacon.com
SUMMARY:cours IC
DESCRIPTION:
URL:https://subamacon.com/index.php/event/cours-ic/
LOCATION:salle de cours du Club
CATEGORIES:Initiateurs
END:VEVENT
BEGIN:VEVENT
DTSTART;TZID=Europe/Paris:20260304T200000
DTEND;TZID=Europe/Paris:20260304T210000
DTSTAMP:20260424T063730
CREATED:20250918T132757Z
LAST-MODIFIED:20250918T132757Z
UID:247178-1772654400-1772658000@subamacon.com
SUMMARY:cours PN2 ordinateur
DESCRIPTION:
URL:https://subamacon.com/index.php/event/cours-pn2-ordinateur/
LOCATION:Local\, France
CATEGORIES:N2 théorie,Niveau 2
END:VEVENT
BEGIN:VEVENT
DTSTART;TZID=Europe/Paris:20260303T193000
DTEND;TZID=Europe/Paris:20260303T220000
DTSTAMP:20260424T063730
CREATED:20260205T195611Z
LAST-MODIFIED:20260205T195611Z
UID:247751-1772566200-1772575200@subamacon.com
SUMMARY:réunion du CODIR
DESCRIPTION:
URL:https://subamacon.com/index.php/event/reunion-du-codir/
END:VEVENT
BEGIN:VEVENT
DTSTART;TZID=Europe/Paris:20260302T193000
DTEND;TZID=Europe/Paris:20260302T210000
DTSTAMP:20260424T063730
CREATED:20251030T221226Z
LAST-MODIFIED:20251030T221226Z
UID:247278-1772479800-1772485200@subamacon.com
SUMMARY:Cours Orga N3
DESCRIPTION:
URL:https://subamacon.com/index.php/event/cours-orga-n3/
LOCATION:salle de cours du Club
END:VEVENT
BEGIN:VEVENT
DTSTART;TZID=Europe/Paris:20260228T180000
DTEND;TZID=Europe/Paris:20260228T193000
DTSTAMP:20260424T063730
CREATED:20251021T165915Z
LAST-MODIFIED:20251021T165915Z
UID:247237-1772301600-1772307000@subamacon.com
SUMMARY:Théorie Ados PN2/PPE40 : Le froid - Prévention des accidents biochimiques
DESCRIPTION:
URL:https://subamacon.com/index.php/event/theorie-ados-pn2-ppe40-le-froid-prevention-des-accidents-biochimiques/
LOCATION:Salle de réunion CSM\, 433 rue alain colas\, Mâcon\, 71000\, France
CATEGORIES:Ado - Théorie
END:VEVENT
BEGIN:VEVENT
DTSTART;VALUE=DATE:20260228
DTEND;VALUE=DATE:20260301
DTSTAMP:20260424T063730
CREATED:20260324T160837Z
LAST-MODIFIED:20260324T161138Z
UID:247828-1772236800-1772323199@subamacon.com
SUMMARY:PSC   formation Premiers Secours Citoyen    //        1ère partie RIFAP
DESCRIPTION:Formation aux gestes de premiers secours  ( en préambule de la formation RIFAP ) \nPremiers Secours Citoyen     PSC  \norganisée par les formateurs  du Comité Départemental  CODEP 71 . \nquand :       samedis :  28 février      25 avril       06 juin 2026 \ndurée :       journée complète \noù :            en fonction du nombre de participants de chaque club du département \npour  qui :  ouverte à tout licencié FFESSM   (priorité aux plongeurs ayant nécessité du RIFAP pour cette saison 2026 ) …. Public extérieur accepté \n nombre de participants :   12 maximum  encadrés par  2 formateurs \ncoût :      50 €   licencié FFESSM  ( montant  déclaré et  validé en Préfecture 71 )        60 €    public extérieur \norganisation :            chaque participant sera informé du lieu et déroulé de la formation quelques jours avant cette formation \ncontact :     secourisme@subamacon.com                    Serge JANIN   06 810 710 57 \n framadate partage public : https://beta.framadate.org/polls/secourismePSC
URL:https://subamacon.com/index.php/event/psc-formation-premiers-secours-citoyen-1ere-partie-rifap/
CATEGORIES:CSM secourisme
END:VEVENT
BEGIN:VEVENT
DTSTART;TZID=Europe/Paris:20260226T200000
DTEND;TZID=Europe/Paris:20260226T220000
DTSTAMP:20260424T063730
CREATED:20251216T172827Z
LAST-MODIFIED:20251216T172827Z
UID:247576-1772136000-1772143200@subamacon.com
SUMMARY:Apnée : cours théorique
DESCRIPTION:
URL:https://subamacon.com/index.php/event/apnee-cours-theorique-3/
END:VEVENT
END:VCALENDAR