BEGIN:VCALENDAR
VERSION:2.0
PRODID:-//Subamacon - ECPv6.10.2//NONSGML v1.0//EN
CALSCALE:GREGORIAN
METHOD:PUBLISH
X-WR-CALNAME:Subamacon
X-ORIGINAL-URL:https://subamacon.com
X-WR-CALDESC:Évènements pour Subamacon
REFRESH-INTERVAL;VALUE=DURATION:PT1H
X-Robots-Tag:noindex
X-PUBLISHED-TTL:PT1H
BEGIN:VTIMEZONE
TZID:Europe/Paris
BEGIN:DAYLIGHT
TZOFFSETFROM:+0100
TZOFFSETTO:+0200
TZNAME:CEST
DTSTART:20260329T010000
END:DAYLIGHT
BEGIN:STANDARD
TZOFFSETFROM:+0200
TZOFFSETTO:+0100
TZNAME:CET
DTSTART:20261025T010000
END:STANDARD
END:VTIMEZONE
BEGIN:VEVENT
DTSTART;TZID=Europe/Paris:20260528T193000
DTEND;TZID=Europe/Paris:20260528T220000
DTSTAMP:20260422T061451
CREATED:20260205T143022Z
LAST-MODIFIED:20260228T093647Z
UID:247734-1779996600-1780005600@subamacon.com
SUMMARY:Cours IC
DESCRIPTION:
URL:https://subamacon.com/index.php/event/cours-ic-7/
LOCATION:salle de cours du Club
CATEGORIES:Initiateurs
END:VEVENT
BEGIN:VEVENT
DTSTART;TZID=Europe/Paris:20260528T200000
DTEND;TZID=Europe/Paris:20260528T223000
DTSTAMP:20260422T061451
CREATED:20260228T093122Z
LAST-MODIFIED:20260228T093122Z
UID:247776-1779998400-1780007400@subamacon.com
SUMMARY:cours IC
DESCRIPTION:
URL:https://subamacon.com/index.php/event/cours-ic-9/
LOCATION:salle de cours du Club
CATEGORIES:Initiateurs
END:VEVENT
END:VCALENDAR