BEGIN:VCALENDAR
VERSION:2.0
PRODID:-//Subamacon - ECPv6.10.2//NONSGML v1.0//EN
CALSCALE:GREGORIAN
METHOD:PUBLISH
X-WR-CALNAME:Subamacon
X-ORIGINAL-URL:https://subamacon.com
X-WR-CALDESC:Évènements pour Subamacon
REFRESH-INTERVAL;VALUE=DURATION:PT1H
X-Robots-Tag:noindex
X-PUBLISHED-TTL:PT1H
BEGIN:VTIMEZONE
TZID:Europe/Paris
BEGIN:DAYLIGHT
TZOFFSETFROM:+0100
TZOFFSETTO:+0200
TZNAME:CEST
DTSTART:20260329T010000
END:DAYLIGHT
BEGIN:STANDARD
TZOFFSETFROM:+0200
TZOFFSETTO:+0100
TZNAME:CET
DTSTART:20261025T010000
END:STANDARD
END:VTIMEZONE
BEGIN:VEVENT
DTSTART;TZID=Europe/Paris:20260501T080000
DTEND;TZID=Europe/Paris:20260503T170000
DTSTAMP:20260422T024415
CREATED:20251210T194647Z
LAST-MODIFIED:20251210T194647Z
UID:247520-1777622400-1777827600@subamacon.com
SUMMARY:sortie Marseille N2
DESCRIPTION:
URL:https://subamacon.com/index.php/event/sortie-marseille-n2/
LOCATION:Marseille Pointe Rouge\, port de la pointe rouge\, Marseille
CATEGORIES:Niveau 2
END:VEVENT
END:VCALENDAR