BEGIN:VCALENDAR
VERSION:2.0
PRODID:-//Subamacon - ECPv6.10.2//NONSGML v1.0//EN
CALSCALE:GREGORIAN
METHOD:PUBLISH
X-WR-CALNAME:Subamacon
X-ORIGINAL-URL:https://subamacon.com
X-WR-CALDESC:Évènements pour Subamacon
REFRESH-INTERVAL;VALUE=DURATION:PT1H
X-Robots-Tag:noindex
X-PUBLISHED-TTL:PT1H
BEGIN:VTIMEZONE
TZID:Europe/Paris
BEGIN:DAYLIGHT
TZOFFSETFROM:+0100
TZOFFSETTO:+0200
TZNAME:CEST
DTSTART:20260329T010000
END:DAYLIGHT
BEGIN:STANDARD
TZOFFSETFROM:+0200
TZOFFSETTO:+0100
TZNAME:CET
DTSTART:20261025T010000
END:STANDARD
END:VTIMEZONE
BEGIN:VEVENT
DTSTART;TZID=Europe/Paris:20260408T080000
DTEND;TZID=Europe/Paris:20260412T170000
DTSTAMP:20260422T024657
CREATED:20251221T191933Z
LAST-MODIFIED:20251221T191933Z
UID:247595-1775635200-1776013200@subamacon.com
SUMMARY:Sortie Technique Ados : La Ciotat
DESCRIPTION:
URL:https://subamacon.com/index.php/event/sortie-technique-ados-la-ciotat/
LOCATION:GPES La Ciotat\, GPES quai wilson\, La Ciotat\, 13600
END:VEVENT
BEGIN:VEVENT
DTSTART;VALUE=DATE:20260411
DTEND;VALUE=DATE:20260413
DTSTAMP:20260422T024657
CREATED:20250910T152618Z
LAST-MODIFIED:20250910T152618Z
UID:247153-1775865600-1776038399@subamacon.com
SUMMARY:SORTIE NIOLON N2+N3
DESCRIPTION:
URL:https://subamacon.com/index.php/event/sortie-niolon-n2n3/
LOCATION:UCPA NIOLON\, 18\, chemin de la Batterie\, LE ROVE\, 13740\, France
END:VEVENT
BEGIN:VEVENT
DTSTART;TZID=Europe/Paris:20260411T080000
DTEND;TZID=Europe/Paris:20260412T170000
DTSTAMP:20260422T024657
CREATED:20251210T194530Z
LAST-MODIFIED:20251210T194530Z
UID:247518-1775894400-1776013200@subamacon.com
SUMMARY:sortie Niolon N2
DESCRIPTION:
URL:https://subamacon.com/index.php/event/sortie-niolon-n2/
CATEGORIES:Niveau 2
END:VEVENT
END:VCALENDAR