BEGIN:VCALENDAR
VERSION:2.0
PRODID:-//Subamacon - ECPv6.10.2//NONSGML v1.0//EN
CALSCALE:GREGORIAN
METHOD:PUBLISH
X-ORIGINAL-URL:https://subamacon.com
X-WR-CALDESC:Évènements pour Subamacon
REFRESH-INTERVAL;VALUE=DURATION:PT1H
X-Robots-Tag:noindex
X-PUBLISHED-TTL:PT1H
BEGIN:VTIMEZONE
TZID:Europe/Paris
BEGIN:DAYLIGHT
TZOFFSETFROM:+0100
TZOFFSETTO:+0200
TZNAME:CEST
DTSTART:20260329T010000
END:DAYLIGHT
BEGIN:STANDARD
TZOFFSETFROM:+0200
TZOFFSETTO:+0100
TZNAME:CET
DTSTART:20261025T010000
END:STANDARD
END:VTIMEZONE
BEGIN:VEVENT
DTSTART;TZID=Europe/Paris:20260205T180000
DTEND;TZID=Europe/Paris:20260205T200000
DTSTAMP:20260422T101155
CREATED:20260203T091657Z
LAST-MODIFIED:20260203T091657Z
UID:247703-1770314400-1770321600@subamacon.com
SUMMARY:formation MF1
DESCRIPTION:
URL:https://subamacon.com/index.php/event/formation-mf1/
LOCATION:Club House CSM\, rue alain colas\, Mâcon\, 71000\, France
END:VEVENT
BEGIN:VEVENT
DTSTART;TZID=Europe/Paris:20260205T200000
DTEND;TZID=Europe/Paris:20260205T220000
DTSTAMP:20260422T101155
CREATED:20251216T172744Z
LAST-MODIFIED:20251216T172744Z
UID:247574-1770321600-1770328800@subamacon.com
SUMMARY:Apnée : cours théorique
DESCRIPTION:
URL:https://subamacon.com/index.php/event/apnee-cours-theorique-2/
END:VEVENT
END:VCALENDAR