BEGIN:VCALENDAR
VERSION:2.0
PRODID:-//Subamacon - ECPv6.10.2//NONSGML v1.0//EN
CALSCALE:GREGORIAN
METHOD:PUBLISH
X-WR-CALNAME:Subamacon
X-ORIGINAL-URL:https://subamacon.com
X-WR-CALDESC:Évènements pour Subamacon
REFRESH-INTERVAL;VALUE=DURATION:PT1H
X-Robots-Tag:noindex
X-PUBLISHED-TTL:PT1H
BEGIN:VTIMEZONE
TZID:Europe/Paris
BEGIN:DAYLIGHT
TZOFFSETFROM:+0100
TZOFFSETTO:+0200
TZNAME:CEST
DTSTART:20260329T010000
END:DAYLIGHT
BEGIN:STANDARD
TZOFFSETFROM:+0200
TZOFFSETTO:+0100
TZNAME:CET
DTSTART:20261025T010000
END:STANDARD
END:VTIMEZONE
BEGIN:VEVENT
DTSTART;VALUE=DATE:20260117
DTEND;VALUE=DATE:20260118
DTSTAMP:20260422T141909
CREATED:20251204T143157Z
LAST-MODIFIED:20251204T143545Z
UID:247470-1768608000-1768694399@subamacon.com
SUMMARY:TIV Bloc Air
DESCRIPTION:
URL:https://subamacon.com/index.php/event/tiv-bloc-air-2/
END:VEVENT
BEGIN:VEVENT
DTSTART;TZID=Europe/Paris:20260117T080000
DTEND;TZID=Europe/Paris:20260117T150000
DTSTAMP:20260422T141909
CREATED:20251120T115331Z
LAST-MODIFIED:20251120T115331Z
UID:247360-1768636800-1768662000@subamacon.com
SUMMARY:TIV Bloc air
DESCRIPTION:Visite annuelle des blocs du club et des blocs des adhérents. Il est impératif de déposer vos blocs maximum le mercredi 14/01/2026 afin que l’équipe s’organise. Une participation de 2€/bloc perso des adhérents pour participer aux frais (joint\, graisse\, achat de matériel d’inspection…).
URL:https://subamacon.com/index.php/event/tiv-bloc-air/
LOCATION:Club House CSM\, rue alain colas\, Mâcon\, 71000\, France
CATEGORIES:Commission matériel
END:VEVENT
END:VCALENDAR